BEGIN:VCALENDAR
VERSION:2.0
PRODID:-//kremlin.ru/Kremlin Calendar//RU
METHOD:PUBLISH
URL:http://kremlin.ru/press/announcements/ical/79593.ical
BEGIN:VEVENT
SUMMARY:23 апреля Президент проведёт совеща
 ние с членами Правительства
DTSTART;VALUE=DATE:20260423
UID:announce-79593@kremlin.ru
DESCRIPTION:http://kremlin.ru/press/announcements/79593\n\n\n\n23 апре
 ля Владимир Путин в формате видеоконфер
 енции проведёт совещание с членами Прав
 ительства. Основная тема – развитие Арк
 тической зоны России и Трансарктическог
 о транспортного коридора.С докладами вы
 ступят заместитель Председателя Правит
 ельства – полномочный представитель Пр
 езидента в Дальневосточном федеральном 
 округе Юрий Трутнев\, заместитель Предсе
 дателя Правительства Виталий Савельев\, 
 генеральный директор Государственной к
 орпорации по атомной энергии «Росатом» 
 Алексей Лихачёв\, председатель комиссии 
 Государственного Совета по направлению 
 «Северный морской путь и Арктика»\, губе
 рнатор Мурманской области Андрей Чибис.
 Также будет рассмотрен ряд текущих вопр
 осов.
END:VEVENT
END:VCALENDAR
